BEGIN:VCALENDAR
VERSION:2.0
PRODID:-//Marist Premier Catholic College Prep Coed Chicago - ECPv6.15.20//NONSGML v1.0//EN
CALSCALE:GREGORIAN
METHOD:PUBLISH
X-ORIGINAL-URL:https://www.marist.net
X-WR-CALDESC:Events for Marist Premier Catholic College Prep Coed Chicago
REFRESH-INTERVAL;VALUE=DURATION:PT1H
X-Robots-Tag:noindex
X-PUBLISHED-TTL:PT1H
BEGIN:VTIMEZONE
TZID:America/Chicago
BEGIN:DAYLIGHT
TZOFFSETFROM:-0600
TZOFFSETTO:-0500
TZNAME:CDT
DTSTART:20230312T080000
END:DAYLIGHT
BEGIN:STANDARD
TZOFFSETFROM:-0500
TZOFFSETTO:-0600
TZNAME:CST
DTSTART:20231105T070000
END:STANDARD
BEGIN:DAYLIGHT
TZOFFSETFROM:-0600
TZOFFSETTO:-0500
TZNAME:CDT
DTSTART:20240310T080000
END:DAYLIGHT
BEGIN:STANDARD
TZOFFSETFROM:-0500
TZOFFSETTO:-0600
TZNAME:CST
DTSTART:20241103T070000
END:STANDARD
BEGIN:DAYLIGHT
TZOFFSETFROM:-0600
TZOFFSETTO:-0500
TZNAME:CDT
DTSTART:20250309T080000
END:DAYLIGHT
BEGIN:STANDARD
TZOFFSETFROM:-0500
TZOFFSETTO:-0600
TZNAME:CST
DTSTART:20251102T070000
END:STANDARD
END:VTIMEZONE
BEGIN:VEVENT
DTSTART;TZID=America/Chicago:20240506T080000
DTEND;TZID=America/Chicago:20240510T170000
DTSTAMP:20260419T232418
CREATED:20240411T171539Z
LAST-MODIFIED:20240411T171539Z
UID:10001199-1714982400-1715360400@www.marist.net
SUMMARY:AP Exams
DESCRIPTION:
URL:https://www.marist.net/event/ap-exams-3/
END:VEVENT
BEGIN:VEVENT
DTSTART;TZID=America/Chicago:20240507T180000
DTEND;TZID=America/Chicago:20240507T190000
DTSTAMP:20260419T232418
CREATED:20240305T225853Z
LAST-MODIFIED:20240305T225853Z
UID:10001169-1715104800-1715108400@www.marist.net
SUMMARY:Meet Marist Admissions Event
DESCRIPTION:Marist will host on campus Meet Marist evenings this spring for students and their parents to tour our incredible campus and meet with administrators\, coaches and students. Click below to register for a Meet Marist event.
URL:https://www.marist.net/event/meet-marist-admissions-event-3-2/
END:VEVENT
END:VCALENDAR