BEGIN:VCALENDAR
VERSION:2.0
PRODID:-//Marist Premier Catholic College Prep Coed Chicago - ECPv6.15.20//NONSGML v1.0//EN
CALSCALE:GREGORIAN
METHOD:PUBLISH
X-ORIGINAL-URL:https://www.marist.net
X-WR-CALDESC:Events for Marist Premier Catholic College Prep Coed Chicago
REFRESH-INTERVAL;VALUE=DURATION:PT1H
X-Robots-Tag:noindex
X-PUBLISHED-TTL:PT1H
BEGIN:VTIMEZONE
TZID:America/New_York
BEGIN:DAYLIGHT
TZOFFSETFROM:-0500
TZOFFSETTO:-0400
TZNAME:EDT
DTSTART:20250309T070000
END:DAYLIGHT
BEGIN:STANDARD
TZOFFSETFROM:-0400
TZOFFSETTO:-0500
TZNAME:EST
DTSTART:20251102T060000
END:STANDARD
BEGIN:DAYLIGHT
TZOFFSETFROM:-0500
TZOFFSETTO:-0400
TZNAME:EDT
DTSTART:20260308T070000
END:DAYLIGHT
BEGIN:STANDARD
TZOFFSETFROM:-0400
TZOFFSETTO:-0500
TZNAME:EST
DTSTART:20261101T060000
END:STANDARD
BEGIN:DAYLIGHT
TZOFFSETFROM:-0500
TZOFFSETTO:-0400
TZNAME:EDT
DTSTART:20270314T070000
END:DAYLIGHT
BEGIN:STANDARD
TZOFFSETFROM:-0400
TZOFFSETTO:-0500
TZNAME:EST
DTSTART:20271107T060000
END:STANDARD
END:VTIMEZONE
BEGIN:VEVENT
DTSTART;VALUE=DATE:20260811
DTEND;VALUE=DATE:20260812
DTSTAMP:20260423T044230
CREATED:20260408T161751Z
LAST-MODIFIED:20260408T161751Z
UID:10001806-1786406400-1786492799@www.marist.net
SUMMARY:New Faculty/Staff Orientation
DESCRIPTION:
URL:https://www.marist.net/event/new-faculty-staff-orientation/
END:VEVENT
BEGIN:VEVENT
DTSTART;TZID=America/New_York:20260811T120000
DTEND;TZID=America/New_York:20260811T140000
DTSTAMP:20260423T044230
CREATED:20260408T161612Z
LAST-MODIFIED:20260408T161612Z
UID:10001803-1786449600-1786456800@www.marist.net
SUMMARY:iPad Pick-up
DESCRIPTION:
URL:https://www.marist.net/event/ipad-pick-up-3/2026-08-11/1/
END:VEVENT
BEGIN:VEVENT
DTSTART;TZID=America/New_York:20260811T160000
DTEND;TZID=America/New_York:20260811T190000
DTSTAMP:20260423T044230
CREATED:20260408T161612Z
LAST-MODIFIED:20260408T161612Z
UID:10001804-1786464000-1786474800@www.marist.net
SUMMARY:iPad Pick-up
DESCRIPTION:
URL:https://www.marist.net/event/ipad-pick-up-3/2026-08-11/2/
END:VEVENT
END:VCALENDAR